BEGIN:VCALENDAR
VERSION:2.0
PRODID:-//Harpole Parish Council//Meeting Calendar//EN
CALSCALE:GREGORIAN
METHOD:PUBLISH
BEGIN:VEVENT
UID:71960-20260325@harpole-pc.gov.uk
DTSTAMP:20260421T082952Z
DTSTART;VALUE=DATE:20260325
DTEND;VALUE=DATE:20260326
SUMMARY:Public Meeting 25.03.2026
DESCRIPTION:Public Meetings Meeting\nView details: https://harpole-pc.gov.uk/meetings/public-meeting-25-03-2026/
URL:https://harpole-pc.gov.uk/meetings/public-meeting-25-03-2026/
END:VEVENT
END:VCALENDAR
