BEGIN:VCALENDAR
VERSION:2.0
PRODID:-//Harpole Parish Council//Meeting Calendar//EN
CALSCALE:GREGORIAN
METHOD:PUBLISH
BEGIN:VEVENT
UID:71877-20261102@harpole-pc.gov.uk
DTSTAMP:20260421T084424Z
DTSTART;VALUE=DATE:20261102
DTEND;VALUE=DATE:20261103
SUMMARY:Strategy\\, Finance and Policy Committee Meeting 2nd November 2026
DESCRIPTION:Strategy, Finance and Policy Committee Meeting\nView details: https://harpole-pc.gov.uk/meetings/strategy-finance-and-policy-committee-meeting-2nd-november-2026/
URL:https://harpole-pc.gov.uk/meetings/strategy-finance-and-policy-committee-meeting-2nd-november-2026/
END:VEVENT
END:VCALENDAR
