BEGIN:VCALENDAR
VERSION:2.0
PRODID:-//Harpole Parish Council//Meeting Calendar//EN
CALSCALE:GREGORIAN
METHOD:PUBLISH
BEGIN:VEVENT
UID:71876-20260907@harpole-pc.gov.uk
DTSTAMP:20260421T082915Z
DTSTART;VALUE=DATE:20260907
DTEND;VALUE=DATE:20260908
SUMMARY:Strategy\\, Finance and Policy Committee Meeting 7th September 2026
DESCRIPTION:Strategy, Finance and Policy Committee Meeting\nView details: https://harpole-pc.gov.uk/meetings/strategy-finance-and-policy-committee-meeting-7th-september-2026/
URL:https://harpole-pc.gov.uk/meetings/strategy-finance-and-policy-committee-meeting-7th-september-2026/
END:VEVENT
END:VCALENDAR
