BEGIN:VCALENDAR
VERSION:2.0
PRODID:-//Harpole Parish Council//Meeting Calendar//EN
CALSCALE:GREGORIAN
METHOD:PUBLISH
BEGIN:VEVENT
UID:71874-20260505@harpole-pc.gov.uk
DTSTAMP:20260419T115345Z
DTSTART;VALUE=DATE:20260505
DTEND;VALUE=DATE:20260506
SUMMARY:Strategy\\, Finance and Policy Committee Meeting 5th May 2025
DESCRIPTION:Strategy, Finance and Policy Committee Meeting\nView details: https://harpole-pc.gov.uk/meetings/strategy-finance-and-policy-committee-meeting-5th-may-2025/
URL:https://harpole-pc.gov.uk/meetings/strategy-finance-and-policy-committee-meeting-5th-may-2025/
END:VEVENT
END:VCALENDAR
