BEGIN:VCALENDAR
VERSION:2.0
PRODID:-//Harpole Parish Council//Meeting Calendar//EN
CALSCALE:GREGORIAN
METHOD:PUBLISH
BEGIN:VEVENT
UID:71871-20270222@harpole-pc.gov.uk
DTSTAMP:20260421T082823Z
DTSTART;VALUE=DATE:20270222
DTEND;VALUE=DATE:20270223
SUMMARY:Planning\\, Highways and Infrastructure Committee Meeting 22nd February 2027
DESCRIPTION:Planning, Highways and Infrastructure Committee Meeting\nView details: https://harpole-pc.gov.uk/meetings/planning-highways-and-infrastructure-committee-meeting-22nd-february-2027/
URL:https://harpole-pc.gov.uk/meetings/planning-highways-and-infrastructure-committee-meeting-22nd-february-2027/
END:VEVENT
END:VCALENDAR
