BEGIN:VCALENDAR
VERSION:2.0
PRODID:-//Harpole Parish Council//Meeting Calendar//EN
CALSCALE:GREGORIAN
METHOD:PUBLISH
BEGIN:VEVENT
UID:71866-20260727@harpole-pc.gov.uk
DTSTAMP:20260421T082951Z
DTSTART;VALUE=DATE:20260727
DTEND;VALUE=DATE:20260728
SUMMARY:Planning\\, Highways and Infrastructure Committee Meeting 27th July 2026
DESCRIPTION:Planning, Highways and Infrastructure Committee Meeting\nView details: https://harpole-pc.gov.uk/meetings/planning-highways-and-infrastructure-committee-meeting-27th-july-2026/
URL:https://harpole-pc.gov.uk/meetings/planning-highways-and-infrastructure-committee-meeting-27th-july-2026/
END:VEVENT
END:VCALENDAR
