BEGIN:VCALENDAR
VERSION:2.0
PRODID:-//Harpole Parish Council//Meeting Calendar//EN
CALSCALE:GREGORIAN
METHOD:PUBLISH
BEGIN:VEVENT
UID:71865-20260629@harpole-pc.gov.uk
DTSTAMP:20260421T082915Z
DTSTART;VALUE=DATE:20260629
DTEND;VALUE=DATE:20260630
SUMMARY:Planning\\, Highways and Infrastructure Committee Meeting 29th June 2026
DESCRIPTION:Planning, Highways and Infrastructure Committee Meeting\nView details: https://harpole-pc.gov.uk/meetings/planning-highways-and-infrastructure-committee-meeting-29th-june-2026/
URL:https://harpole-pc.gov.uk/meetings/planning-highways-and-infrastructure-committee-meeting-29th-june-2026/
END:VEVENT
END:VCALENDAR
