BEGIN:VCALENDAR
VERSION:2.0
PRODID:-//Harpole Parish Council//Meeting Calendar//EN
CALSCALE:GREGORIAN
METHOD:PUBLISH
BEGIN:VEVENT
UID:71032-20241007@harpole-pc.gov.uk
DTSTAMP:20260421T082914Z
DTSTART;VALUE=DATE:20241007
DTEND;VALUE=DATE:20241008
SUMMARY:Strategy\\, Finance and Policy Committee Meeting 7th October 2024
DESCRIPTION:Strategy, Finance and Policy Committee Meeting\nView details: https://harpole-pc.gov.uk/meetings/strategy-finance-and-policy-committee-meeting-2/
URL:https://harpole-pc.gov.uk/meetings/strategy-finance-and-policy-committee-meeting-2/
END:VEVENT
END:VCALENDAR
