BEGIN:VCALENDAR
VERSION:2.0
PRODID:-//Harpole Parish Council//Meeting Calendar//EN
CALSCALE:GREGORIAN
METHOD:PUBLISH
BEGIN:VEVENT
UID:70951-20240930@harpole-pc.gov.uk
DTSTAMP:20260422T082943Z
DTSTART;VALUE=DATE:20240930
DTEND;VALUE=DATE:20241001
SUMMARY:Planning\\, Highways and Infrastructure Committee Meeting 30th September 2024
DESCRIPTION:Planning, Highways and Infrastructure Committee Meeting\nView details: https://harpole-pc.gov.uk/meetings/planning-highways-and-infrastructure-committee-meeting-30th-september-2024/
URL:https://harpole-pc.gov.uk/meetings/planning-highways-and-infrastructure-committee-meeting-30th-september-2024/
END:VEVENT
END:VCALENDAR
