BEGIN:VCALENDAR
VERSION:2.0
PRODID:-//Harpole Parish Council//Meeting Calendar//EN
CALSCALE:GREGORIAN
METHOD:PUBLISH
BEGIN:VEVENT
UID:70896-20240729@harpole-pc.gov.uk
DTSTAMP:20260422T082644Z
DTSTART;VALUE=DATE:20240729
DTEND;VALUE=DATE:20240730
SUMMARY:Planning\\, Highways and Infrastructure Committee 29th July 2024
DESCRIPTION:Planning, Highways and Infrastructure Committee Meeting\nView details: https://harpole-pc.gov.uk/meetings/planning-highways-and-infrastructure-committee-29th-july-2024/
URL:https://harpole-pc.gov.uk/meetings/planning-highways-and-infrastructure-committee-29th-july-2024/
END:VEVENT
END:VCALENDAR
