BEGIN:VCALENDAR
VERSION:2.0
PRODID:-//Harpole Parish Council//Meeting Calendar//EN
CALSCALE:GREGORIAN
METHOD:PUBLISH
BEGIN:VEVENT
UID:70776-20240507@harpole-pc.gov.uk
DTSTAMP:20260425T231709Z
DTSTART;VALUE=DATE:20240507
DTEND;VALUE=DATE:20240508
SUMMARY:Strategy\\, Finance and Policy Committee Meeting &#8211\\; 7th May 2024
DESCRIPTION:Strategy, Finance and Policy Committee Meeting\nView details: https://harpole-pc.gov.uk/meetings/strategy-finance-and-policy-committee-meeting/
URL:https://harpole-pc.gov.uk/meetings/strategy-finance-and-policy-committee-meeting/
END:VEVENT
END:VCALENDAR
