BEGIN:VCALENDAR
VERSION:2.0
PRODID:-//Harpole Parish Council//Meeting Calendar//EN
CALSCALE:GREGORIAN
METHOD:PUBLISH
BEGIN:VEVENT
UID:70719-20240101@harpole-pc.gov.uk
DTSTAMP:20260421T175505Z
DTSTART;VALUE=DATE:20240101
DTEND;VALUE=DATE:20240102
SUMMARY:Planning Committee Meetings 2023
DESCRIPTION:Planning, Highways and Infrastructure Committee Meeting\nView details: https://harpole-pc.gov.uk/meetings/planning-committee-meetings-2023/
URL:https://harpole-pc.gov.uk/meetings/planning-committee-meetings-2023/
END:VEVENT
END:VCALENDAR
