BEGIN:VCALENDAR
VERSION:2.0
PRODID:-//Harpole Parish Council//Meeting Calendar//EN
CALSCALE:GREGORIAN
METHOD:PUBLISH
BEGIN:VEVENT
UID:70706-20240325@harpole-pc.gov.uk
DTSTAMP:20260421T175303Z
DTSTART;VALUE=DATE:20240325
DTEND;VALUE=DATE:20240326
SUMMARY:Planning\\, Highways and Infrastructure Committee Meeting &#8211\\; 25th March 2024
DESCRIPTION:Planning, Highways and Infrastructure Committee Meeting\nView details: https://harpole-pc.gov.uk/meetings/planning-highways-and-infrastructure-committee-meeting-25th-march-2024/
URL:https://harpole-pc.gov.uk/meetings/planning-highways-and-infrastructure-committee-meeting-25th-march-2024/
END:VEVENT
END:VCALENDAR
