BEGIN:VCALENDAR
VERSION:2.0
PRODID:-//Harpole Parish Council//Meeting Calendar//EN
CALSCALE:GREGORIAN
METHOD:PUBLISH
BEGIN:VEVENT
UID:70703-20240226@harpole-pc.gov.uk
DTSTAMP:20260421T175552Z
DTSTART;VALUE=DATE:20240226
DTEND;VALUE=DATE:20240227
SUMMARY:Planning\\, Highways and Infrastructure Committee Meeting &#8211\\; 26th February 2024
DESCRIPTION:Planning, Highways and Infrastructure Committee Meeting\nView details: https://harpole-pc.gov.uk/meetings/planning-highways-and-infrastructure-committee-meeting-26th-february-2024/
URL:https://harpole-pc.gov.uk/meetings/planning-highways-and-infrastructure-committee-meeting-26th-february-2024/
END:VEVENT
END:VCALENDAR
