BEGIN:VCALENDAR
VERSION:2.0
PRODID:-//Harpole Parish Council//Meeting Calendar//EN
CALSCALE:GREGORIAN
METHOD:PUBLISH
BEGIN:VEVENT
UID:70700-20240129@harpole-pc.gov.uk
DTSTAMP:20260421T174603Z
DTSTART;VALUE=DATE:20240129
DTEND;VALUE=DATE:20240130
SUMMARY:Planning\\, Highways and Infrastructure Committee Meeting &#8211\\; 29th January 2024
DESCRIPTION:Planning, Highways and Infrastructure Committee Meeting\nView details: https://harpole-pc.gov.uk/meetings/planning-highways-and-infrastructure-committee-meeting-29th-january-2024/
URL:https://harpole-pc.gov.uk/meetings/planning-highways-and-infrastructure-committee-meeting-29th-january-2024/
END:VEVENT
END:VCALENDAR
