BEGIN:VCALENDAR
VERSION:2.0
PRODID:-//Harpole Parish Council//Meeting Calendar//EN
CALSCALE:GREGORIAN
METHOD:PUBLISH
BEGIN:VEVENT
UID:70614-20230313@harpole-pc.gov.uk
DTSTAMP:20260421T082958Z
DTSTART;VALUE=DATE:20230313
DTEND;VALUE=DATE:20230314
SUMMARY:Council Meeting &#8211\\; 13th March 2023
DESCRIPTION:Full Council Meeting\nView details: https://harpole-pc.gov.uk/meetings/council-meeting-13th-march-2023/
URL:https://harpole-pc.gov.uk/meetings/council-meeting-13th-march-2023/
END:VEVENT
END:VCALENDAR
