BEGIN:VCALENDAR
VERSION:2.0
PRODID:-//Harpole Parish Council//Meeting Calendar//EN
CALSCALE:GREGORIAN
METHOD:PUBLISH
BEGIN:VEVENT
UID:70536-20230101@harpole-pc.gov.uk
DTSTAMP:20260421T082923Z
DTSTART;VALUE=DATE:20230101
DTEND;VALUE=DATE:20230102
SUMMARY:Finance Committee meetings &#8211\\; 2023
DESCRIPTION:Strategy, Finance and Policy Committee Meeting\nView details: https://harpole-pc.gov.uk/meetings/finance-committee-and-community-infrastructure-committee-and-other-agendas-2023/
URL:https://harpole-pc.gov.uk/meetings/finance-committee-and-community-infrastructure-committee-and-other-agendas-2023/
END:VEVENT
END:VCALENDAR
