BEGIN:VCALENDAR
VERSION:2.0
PRODID:-//Harpole Parish Council//Meeting Calendar//EN
CALSCALE:GREGORIAN
METHOD:PUBLISH
BEGIN:VEVENT
UID:70525-20230101@harpole-pc.gov.uk
DTSTAMP:20260421T082824Z
DTSTART;VALUE=DATE:20230101
DTEND;VALUE=DATE:20230102
SUMMARY:Strategy\\, Change and Engagement Committee Meetings &#8211\\; 2023
DESCRIPTION:Council Meeting\nView details: https://harpole-pc.gov.uk/meetings/strategy-change-and-engagement-committee-minutes-2023/
URL:https://harpole-pc.gov.uk/meetings/strategy-change-and-engagement-committee-minutes-2023/
END:VEVENT
END:VCALENDAR
