BEGIN:VCALENDAR
VERSION:2.0
PRODID:-//Harpole Parish Council//Meeting Calendar//EN
CALSCALE:GREGORIAN
METHOD:PUBLISH
BEGIN:VEVENT
UID:70473-20230606@harpole-pc.gov.uk
DTSTAMP:20260425T124614Z
DTSTART;VALUE=DATE:20230606
DTEND;VALUE=DATE:20230607
SUMMARY:Strategy\\, Finance and Policy Committee Meeting &#8211\\; 6th June 2023
DESCRIPTION:Strategy, Finance and Policy Committee Meeting\nView details: https://harpole-pc.gov.uk/meetings/strategy-finance-and-policy-committee-meetings-2023/
URL:https://harpole-pc.gov.uk/meetings/strategy-finance-and-policy-committee-meetings-2023/
END:VEVENT
END:VCALENDAR
