BEGIN:VCALENDAR
VERSION:2.0
PRODID:-//Harpole Parish Council//Meeting Calendar//EN
CALSCALE:GREGORIAN
METHOD:PUBLISH
BEGIN:VEVENT
UID:70467-20230525@harpole-pc.gov.uk
DTSTAMP:20260421T140558Z
DTSTART;VALUE=DATE:20230525
DTEND;VALUE=DATE:20230526
SUMMARY:Planning\\, Highways and Infrastructure Committee Meeting &#8211\\; 25th May 2023
DESCRIPTION:Planning, Highways and Infrastructure Committee Meeting\nView details: https://harpole-pc.gov.uk/meetings/planning-highways-and-infrastructure-committee-meetings-2023/
URL:https://harpole-pc.gov.uk/meetings/planning-highways-and-infrastructure-committee-meetings-2023/
END:VEVENT
END:VCALENDAR
